{
 "currentVersion": 10.61,
 "serviceDescription": "",
 "mapName": "Layers",
 "description": "",
 "copyrightText": "",
 "supportsDynamicLayers": false,
 "layers": [
  {
   "id": 0,
   "name": "SatImageSpot2020WGS150CM",
   "parentLayerId": -1,
   "defaultVisibility": true,
   "subLayerIds": null,
   "minScale": 0,
   "maxScale": 0
  }
 ],
 "tables": [],
 "spatialReference": {
  "wkid": 32637,
  "latestWkid": 32637
 },
 "singleFusedMapCache": true,
 "tileInfo": {
  "rows": 256,
  "cols": 256,
  "dpi": 96,
  "format": "MIXED",
  "compressionQuality": 75,
  "origin": {
   "x": -5120900,
   "y": 9998100
  },
  "spatialReference": {
   "wkid": 32637,
   "latestWkid": 32637
  },
  "lods": [
   {
    "level": 0,
    "resolution": 264.5838625010584,
    "scale": 1000000
   },
   {
    "level": 1,
    "resolution": 198.43789687579377,
    "scale": 750000
   },
   {
    "level": 2,
    "resolution": 132.2919312505292,
    "scale": 500000
   },
   {
    "level": 3,
    "resolution": 66.1459656252646,
    "scale": 250000
   },
   {
    "level": 4,
    "resolution": 26.458386250105836,
    "scale": 100000
   },
   {
    "level": 5,
    "resolution": 13.229193125052918,
    "scale": 50000
   },
   {
    "level": 6,
    "resolution": 6.614596562526459,
    "scale": 25000
   },
   {
    "level": 7,
    "resolution": 2.6458386250105836,
    "scale": 10000
   },
   {
    "level": 8,
    "resolution": 1.3229193125052918,
    "scale": 5000
   },
   {
    "level": 9,
    "resolution": 0.7937515875031751,
    "scale": 3000
   },
   {
    "level": 10,
    "resolution": 0.39687579375158755,
    "scale": 1500
   }
  ]
 },
 "initialExtent": {
  "xmin": 415899.9136411073,
  "ymin": 2298543.877288777,
  "xmax": 745724.0596958657,
  "ymax": 2436990.7091141664,
  "spatialReference": {
   "wkid": 32637,
   "latestWkid": 32637
  }
 },
 "fullExtent": {
  "xmin": 416449.597684362,
  "ymin": 2274293.546194812,
  "xmax": 737178.155808145,
  "ymax": 2457941.205156796,
  "spatialReference": {
   "wkid": 32637,
   "latestWkid": 32637
  }
 },
 "minScale": 1000000,
 "maxScale": 1500,
 "units": "esriMeters",
 "supportedImageFormatTypes": "PNG32,PNG24,PNG,JPG,DIB,TIFF,EMF,PS,PDF,GIF,SVG,SVGZ,BMP",
 "documentInfo": {
  "Title": "",
  "Author": "",
  "Comments": "",
  "Subject": "",
  "Category": "",
  "AntialiasingMode": "None",
  "TextAntialiasingMode": "Force",
  "Keywords": ""
 },
 "capabilities": "Data,Map,Query",
 "supportedQueryFormats": "JSON, AMF, geoJSON",
 "exportTilesAllowed": false,
 "supportsDatumTransformation": true,
 "maxRecordCount": 1000,
 "maxImageHeight": 4096,
 "maxImageWidth": 4096,
 "supportedExtensions": ""
}
