{
 "currentVersion": 10.61,
 "serviceDescription": "",
 "mapName": "Layers",
 "description": "",
 "copyrightText": "",
 "supportsDynamicLayers": false,
 "layers": [
  {
   "id": 0,
   "name": "From Scale 20 To End",
   "parentLayerId": -1,
   "defaultVisibility": true,
   "subLayerIds": [
    1,
    9,
    10,
    11,
    12,
    13
   ],
   "minScale": 500,
   "maxScale": 69
  },
  {
   "id": 1,
   "name": "الشوارع",
   "parentLayerId": 0,
   "defaultVisibility": true,
   "subLayerIds": [
    2,
    3,
    4,
    5,
    6,
    7,
    8
   ],
   "minScale": 0,
   "maxScale": 0
  },
  {
   "id": 2,
   "name": "رئيسي 1",
   "parentLayerId": 1,
   "defaultVisibility": true,
   "subLayerIds": null,
   "minScale": 0,
   "maxScale": 0
  },
  {
   "id": 3,
   "name": "رئيسي 1",
   "parentLayerId": 1,
   "defaultVisibility": true,
   "subLayerIds": null,
   "minScale": 0,
   "maxScale": 0
  },
  {
   "id": 4,
   "name": "رئيسي2",
   "parentLayerId": 1,
   "defaultVisibility": true,
   "subLayerIds": null,
   "minScale": 0,
   "maxScale": 0
  },
  {
   "id": 5,
   "name": "رئيسي2",
   "parentLayerId": 1,
   "defaultVisibility": true,
   "subLayerIds": null,
   "minScale": 0,
   "maxScale": 0
  },
  {
   "id": 6,
   "name": "رئيسي3",
   "parentLayerId": 1,
   "defaultVisibility": true,
   "subLayerIds": null,
   "minScale": 0,
   "maxScale": 0
  },
  {
   "id": 7,
   "name": "رئيسي4",
   "parentLayerId": 1,
   "defaultVisibility": true,
   "subLayerIds": null,
   "minScale": 0,
   "maxScale": 0
  },
  {
   "id": 8,
   "name": "فرعي",
   "parentLayerId": 1,
   "defaultVisibility": true,
   "subLayerIds": null,
   "minScale": 0,
   "maxScale": 0
  },
  {
   "id": 9,
   "name": "المسجد الحرام",
   "parentLayerId": 0,
   "defaultVisibility": true,
   "subLayerIds": null,
   "minScale": 0,
   "maxScale": 0
  },
  {
   "id": 10,
   "name": "حدود مناطق المشاعر المقدسة",
   "parentLayerId": 0,
   "defaultVisibility": true,
   "subLayerIds": null,
   "minScale": 1155582,
   "maxScale": 0
  },
  {
   "id": 11,
   "name": "الأحياء",
   "parentLayerId": 0,
   "defaultVisibility": true,
   "subLayerIds": null,
   "minScale": 0,
   "maxScale": 0
  },
  {
   "id": 12,
   "name": "حد الحرم",
   "parentLayerId": 0,
   "defaultVisibility": true,
   "subLayerIds": null,
   "minScale": 0,
   "maxScale": 0
  },
  {
   "id": 13,
   "name": "البلدية",
   "parentLayerId": 0,
   "defaultVisibility": true,
   "subLayerIds": null,
   "minScale": 0,
   "maxScale": 0
  },
  {
   "id": 14,
   "name": "Scale 19",
   "parentLayerId": -1,
   "defaultVisibility": true,
   "subLayerIds": [
    15,
    23,
    24,
    25,
    26,
    27
   ],
   "minScale": 1000,
   "maxScale": 501
  },
  {
   "id": 15,
   "name": "الشوارع",
   "parentLayerId": 14,
   "defaultVisibility": true,
   "subLayerIds": [
    16,
    17,
    18,
    19,
    20,
    21,
    22
   ],
   "minScale": 0,
   "maxScale": 0
  },
  {
   "id": 16,
   "name": "رئيسي 1",
   "parentLayerId": 15,
   "defaultVisibility": true,
   "subLayerIds": null,
   "minScale": 0,
   "maxScale": 0
  },
  {
   "id": 17,
   "name": "رئيسي 1",
   "parentLayerId": 15,
   "defaultVisibility": true,
   "subLayerIds": null,
   "minScale": 0,
   "maxScale": 0
  },
  {
   "id": 18,
   "name": "رئيسي2",
   "parentLayerId": 15,
   "defaultVisibility": true,
   "subLayerIds": null,
   "minScale": 0,
   "maxScale": 0
  },
  {
   "id": 19,
   "name": "رئيسي2",
   "parentLayerId": 15,
   "defaultVisibility": true,
   "subLayerIds": null,
   "minScale": 0,
   "maxScale": 0
  },
  {
   "id": 20,
   "name": "رئيسي3",
   "parentLayerId": 15,
   "defaultVisibility": true,
   "subLayerIds": null,
   "minScale": 0,
   "maxScale": 0
  },
  {
   "id": 21,
   "name": "رئيسي4",
   "parentLayerId": 15,
   "defaultVisibility": true,
   "subLayerIds": null,
   "minScale": 0,
   "maxScale": 0
  },
  {
   "id": 22,
   "name": "فرعي",
   "parentLayerId": 15,
   "defaultVisibility": true,
   "subLayerIds": null,
   "minScale": 0,
   "maxScale": 0
  },
  {
   "id": 23,
   "name": "المسجد الحرام",
   "parentLayerId": 14,
   "defaultVisibility": true,
   "subLayerIds": null,
   "minScale": 0,
   "maxScale": 0
  },
  {
   "id": 24,
   "name": "حدود مناطق المشاعر المقدسة",
   "parentLayerId": 14,
   "defaultVisibility": true,
   "subLayerIds": null,
   "minScale": 1155582,
   "maxScale": 0
  },
  {
   "id": 25,
   "name": "الأحياء",
   "parentLayerId": 14,
   "defaultVisibility": true,
   "subLayerIds": null,
   "minScale": 0,
   "maxScale": 0
  },
  {
   "id": 26,
   "name": "حد الحرم",
   "parentLayerId": 14,
   "defaultVisibility": true,
   "subLayerIds": null,
   "minScale": 0,
   "maxScale": 0
  },
  {
   "id": 27,
   "name": "البلدية",
   "parentLayerId": 14,
   "defaultVisibility": true,
   "subLayerIds": null,
   "minScale": 0,
   "maxScale": 0
  },
  {
   "id": 28,
   "name": "Scale 18",
   "parentLayerId": -1,
   "defaultVisibility": true,
   "subLayerIds": [
    29,
    37,
    38,
    39,
    40,
    41
   ],
   "minScale": 3000,
   "maxScale": 1001
  },
  {
   "id": 29,
   "name": "الشوارع",
   "parentLayerId": 28,
   "defaultVisibility": true,
   "subLayerIds": [
    30,
    31,
    32,
    33,
    34,
    35,
    36
   ],
   "minScale": 0,
   "maxScale": 0
  },
  {
   "id": 30,
   "name": "رئيسي 1",
   "parentLayerId": 29,
   "defaultVisibility": true,
   "subLayerIds": null,
   "minScale": 0,
   "maxScale": 0
  },
  {
   "id": 31,
   "name": "رئيسي 1",
   "parentLayerId": 29,
   "defaultVisibility": true,
   "subLayerIds": null,
   "minScale": 0,
   "maxScale": 0
  },
  {
   "id": 32,
   "name": "رئيسي2",
   "parentLayerId": 29,
   "defaultVisibility": true,
   "subLayerIds": null,
   "minScale": 0,
   "maxScale": 0
  },
  {
   "id": 33,
   "name": "رئيسي2",
   "parentLayerId": 29,
   "defaultVisibility": true,
   "subLayerIds": null,
   "minScale": 0,
   "maxScale": 0
  },
  {
   "id": 34,
   "name": "رئيسي3",
   "parentLayerId": 29,
   "defaultVisibility": true,
   "subLayerIds": null,
   "minScale": 0,
   "maxScale": 0
  },
  {
   "id": 35,
   "name": "رئيسي4",
   "parentLayerId": 29,
   "defaultVisibility": true,
   "subLayerIds": null,
   "minScale": 0,
   "maxScale": 0
  },
  {
   "id": 36,
   "name": "فرعي",
   "parentLayerId": 29,
   "defaultVisibility": true,
   "subLayerIds": null,
   "minScale": 0,
   "maxScale": 0
  },
  {
   "id": 37,
   "name": "المسجد الحرام",
   "parentLayerId": 28,
   "defaultVisibility": true,
   "subLayerIds": null,
   "minScale": 0,
   "maxScale": 0
  },
  {
   "id": 38,
   "name": "حدود مناطق المشاعر المقدسة",
   "parentLayerId": 28,
   "defaultVisibility": true,
   "subLayerIds": null,
   "minScale": 0,
   "maxScale": 0
  },
  {
   "id": 39,
   "name": "الأحياء",
   "parentLayerId": 28,
   "defaultVisibility": true,
   "subLayerIds": null,
   "minScale": 0,
   "maxScale": 0
  },
  {
   "id": 40,
   "name": "حد الحرم",
   "parentLayerId": 28,
   "defaultVisibility": true,
   "subLayerIds": null,
   "minScale": 0,
   "maxScale": 0
  },
  {
   "id": 41,
   "name": "البلدية",
   "parentLayerId": 28,
   "defaultVisibility": true,
   "subLayerIds": null,
   "minScale": 0,
   "maxScale": 0
  },
  {
   "id": 42,
   "name": "Scale 17",
   "parentLayerId": -1,
   "defaultVisibility": true,
   "subLayerIds": [
    43,
    51,
    52,
    53,
    54,
    55
   ],
   "minScale": 5000,
   "maxScale": 3001
  },
  {
   "id": 43,
   "name": "الشوارع",
   "parentLayerId": 42,
   "defaultVisibility": true,
   "subLayerIds": [
    44,
    45,
    46,
    47,
    48,
    49,
    50
   ],
   "minScale": 0,
   "maxScale": 0
  },
  {
   "id": 44,
   "name": "رئيسي 1",
   "parentLayerId": 43,
   "defaultVisibility": true,
   "subLayerIds": null,
   "minScale": 0,
   "maxScale": 0
  },
  {
   "id": 45,
   "name": "رئيسي 1",
   "parentLayerId": 43,
   "defaultVisibility": true,
   "subLayerIds": null,
   "minScale": 0,
   "maxScale": 0
  },
  {
   "id": 46,
   "name": "رئيسي2",
   "parentLayerId": 43,
   "defaultVisibility": true,
   "subLayerIds": null,
   "minScale": 0,
   "maxScale": 0
  },
  {
   "id": 47,
   "name": "رئيسي2",
   "parentLayerId": 43,
   "defaultVisibility": true,
   "subLayerIds": null,
   "minScale": 0,
   "maxScale": 0
  },
  {
   "id": 48,
   "name": "رئيسي3",
   "parentLayerId": 43,
   "defaultVisibility": true,
   "subLayerIds": null,
   "minScale": 0,
   "maxScale": 0
  },
  {
   "id": 49,
   "name": "رئيسي4",
   "parentLayerId": 43,
   "defaultVisibility": true,
   "subLayerIds": null,
   "minScale": 0,
   "maxScale": 0
  },
  {
   "id": 50,
   "name": "فرعي",
   "parentLayerId": 43,
   "defaultVisibility": true,
   "subLayerIds": null,
   "minScale": 0,
   "maxScale": 0
  },
  {
   "id": 51,
   "name": "المسجد الحرام",
   "parentLayerId": 42,
   "defaultVisibility": true,
   "subLayerIds": null,
   "minScale": 0,
   "maxScale": 0
  },
  {
   "id": 52,
   "name": "حدود مناطق المشاعر المقدسة",
   "parentLayerId": 42,
   "defaultVisibility": true,
   "subLayerIds": null,
   "minScale": 0,
   "maxScale": 0
  },
  {
   "id": 53,
   "name": "الأحياء",
   "parentLayerId": 42,
   "defaultVisibility": true,
   "subLayerIds": null,
   "minScale": 0,
   "maxScale": 0
  },
  {
   "id": 54,
   "name": "حد الحرم",
   "parentLayerId": 42,
   "defaultVisibility": true,
   "subLayerIds": null,
   "minScale": 0,
   "maxScale": 0
  },
  {
   "id": 55,
   "name": "البلدية",
   "parentLayerId": 42,
   "defaultVisibility": true,
   "subLayerIds": null,
   "minScale": 0,
   "maxScale": 0
  },
  {
   "id": 56,
   "name": "Scale 16",
   "parentLayerId": -1,
   "defaultVisibility": true,
   "subLayerIds": [
    57,
    65,
    66,
    67,
    68,
    69
   ],
   "minScale": 10000,
   "maxScale": 5001
  },
  {
   "id": 57,
   "name": "الشوارع",
   "parentLayerId": 56,
   "defaultVisibility": true,
   "subLayerIds": [
    58,
    59,
    60,
    61,
    62,
    63,
    64
   ],
   "minScale": 0,
   "maxScale": 0
  },
  {
   "id": 58,
   "name": "رئيسي 1",
   "parentLayerId": 57,
   "defaultVisibility": true,
   "subLayerIds": null,
   "minScale": 0,
   "maxScale": 0
  },
  {
   "id": 59,
   "name": "رئيسي 1",
   "parentLayerId": 57,
   "defaultVisibility": true,
   "subLayerIds": null,
   "minScale": 0,
   "maxScale": 0
  },
  {
   "id": 60,
   "name": "رئيسي2",
   "parentLayerId": 57,
   "defaultVisibility": true,
   "subLayerIds": null,
   "minScale": 0,
   "maxScale": 0
  },
  {
   "id": 61,
   "name": "رئيسي2",
   "parentLayerId": 57,
   "defaultVisibility": true,
   "subLayerIds": null,
   "minScale": 0,
   "maxScale": 0
  },
  {
   "id": 62,
   "name": "رئيسي3",
   "parentLayerId": 57,
   "defaultVisibility": true,
   "subLayerIds": null,
   "minScale": 0,
   "maxScale": 0
  },
  {
   "id": 63,
   "name": "رئيسي4",
   "parentLayerId": 57,
   "defaultVisibility": true,
   "subLayerIds": null,
   "minScale": 0,
   "maxScale": 0
  },
  {
   "id": 64,
   "name": "فرعي",
   "parentLayerId": 57,
   "defaultVisibility": true,
   "subLayerIds": null,
   "minScale": 0,
   "maxScale": 0
  },
  {
   "id": 65,
   "name": "المسجد الحرام",
   "parentLayerId": 56,
   "defaultVisibility": true,
   "subLayerIds": null,
   "minScale": 0,
   "maxScale": 0
  },
  {
   "id": 66,
   "name": "حدود مناطق المشاعر المقدسة",
   "parentLayerId": 56,
   "defaultVisibility": true,
   "subLayerIds": null,
   "minScale": 0,
   "maxScale": 0
  },
  {
   "id": 67,
   "name": "الأحياء",
   "parentLayerId": 56,
   "defaultVisibility": true,
   "subLayerIds": null,
   "minScale": 0,
   "maxScale": 0
  },
  {
   "id": 68,
   "name": "حد الحرم",
   "parentLayerId": 56,
   "defaultVisibility": true,
   "subLayerIds": null,
   "minScale": 0,
   "maxScale": 0
  },
  {
   "id": 69,
   "name": "البلدية",
   "parentLayerId": 56,
   "defaultVisibility": true,
   "subLayerIds": null,
   "minScale": 0,
   "maxScale": 0
  },
  {
   "id": 70,
   "name": "Scale 15",
   "parentLayerId": -1,
   "defaultVisibility": true,
   "subLayerIds": [
    71,
    78,
    79,
    80,
    81,
    82
   ],
   "minScale": 25000,
   "maxScale": 10001
  },
  {
   "id": 71,
   "name": "الشوارع",
   "parentLayerId": 70,
   "defaultVisibility": true,
   "subLayerIds": [
    72,
    73,
    74,
    75,
    76,
    77
   ],
   "minScale": 0,
   "maxScale": 0
  },
  {
   "id": 72,
   "name": "رئيسي 1",
   "parentLayerId": 71,
   "defaultVisibility": true,
   "subLayerIds": null,
   "minScale": 0,
   "maxScale": 0
  },
  {
   "id": 73,
   "name": "رئيسي 1",
   "parentLayerId": 71,
   "defaultVisibility": true,
   "subLayerIds": null,
   "minScale": 0,
   "maxScale": 0
  },
  {
   "id": 74,
   "name": "رئيسي2",
   "parentLayerId": 71,
   "defaultVisibility": true,
   "subLayerIds": null,
   "minScale": 0,
   "maxScale": 0
  },
  {
   "id": 75,
   "name": "رئيسي2",
   "parentLayerId": 71,
   "defaultVisibility": true,
   "subLayerIds": null,
   "minScale": 0,
   "maxScale": 0
  },
  {
   "id": 76,
   "name": "رئيسي3",
   "parentLayerId": 71,
   "defaultVisibility": true,
   "subLayerIds": null,
   "minScale": 0,
   "maxScale": 0
  },
  {
   "id": 77,
   "name": "رئيسي4",
   "parentLayerId": 71,
   "defaultVisibility": true,
   "subLayerIds": null,
   "minScale": 0,
   "maxScale": 0
  },
  {
   "id": 78,
   "name": "المسجد الحرام",
   "parentLayerId": 70,
   "defaultVisibility": true,
   "subLayerIds": null,
   "minScale": 0,
   "maxScale": 0
  },
  {
   "id": 79,
   "name": "حدود مناطق المشاعر المقدسة",
   "parentLayerId": 70,
   "defaultVisibility": true,
   "subLayerIds": null,
   "minScale": 1155582,
   "maxScale": 0
  },
  {
   "id": 80,
   "name": "الأحياء",
   "parentLayerId": 70,
   "defaultVisibility": true,
   "subLayerIds": null,
   "minScale": 0,
   "maxScale": 0
  },
  {
   "id": 81,
   "name": "حد الحرم",
   "parentLayerId": 70,
   "defaultVisibility": true,
   "subLayerIds": null,
   "minScale": 0,
   "maxScale": 0
  },
  {
   "id": 82,
   "name": "البلدية",
   "parentLayerId": 70,
   "defaultVisibility": true,
   "subLayerIds": null,
   "minScale": 0,
   "maxScale": 0
  },
  {
   "id": 83,
   "name": "Scale 14",
   "parentLayerId": -1,
   "defaultVisibility": true,
   "subLayerIds": [
    84,
    91,
    92,
    93,
    94
   ],
   "minScale": 50000,
   "maxScale": 25001
  },
  {
   "id": 84,
   "name": "الشوارع",
   "parentLayerId": 83,
   "defaultVisibility": true,
   "subLayerIds": [
    85,
    86,
    87,
    88,
    89,
    90
   ],
   "minScale": 0,
   "maxScale": 0
  },
  {
   "id": 85,
   "name": "رئيسي 1",
   "parentLayerId": 84,
   "defaultVisibility": true,
   "subLayerIds": null,
   "minScale": 0,
   "maxScale": 0
  },
  {
   "id": 86,
   "name": "رئيسي 1",
   "parentLayerId": 84,
   "defaultVisibility": true,
   "subLayerIds": null,
   "minScale": 0,
   "maxScale": 0
  },
  {
   "id": 87,
   "name": "رئيسي2",
   "parentLayerId": 84,
   "defaultVisibility": true,
   "subLayerIds": null,
   "minScale": 0,
   "maxScale": 0
  },
  {
   "id": 88,
   "name": "رئيسي2",
   "parentLayerId": 84,
   "defaultVisibility": true,
   "subLayerIds": null,
   "minScale": 0,
   "maxScale": 0
  },
  {
   "id": 89,
   "name": "رئيسي3",
   "parentLayerId": 84,
   "defaultVisibility": true,
   "subLayerIds": null,
   "minScale": 0,
   "maxScale": 0
  },
  {
   "id": 90,
   "name": "رئيسي4",
   "parentLayerId": 84,
   "defaultVisibility": true,
   "subLayerIds": null,
   "minScale": 0,
   "maxScale": 0
  },
  {
   "id": 91,
   "name": "المسجد الحرام",
   "parentLayerId": 83,
   "defaultVisibility": true,
   "subLayerIds": null,
   "minScale": 0,
   "maxScale": 0
  },
  {
   "id": 92,
   "name": "حدود مناطق المشاعر المقدسة",
   "parentLayerId": 83,
   "defaultVisibility": true,
   "subLayerIds": null,
   "minScale": 1155582,
   "maxScale": 0
  },
  {
   "id": 93,
   "name": "حد الحرم",
   "parentLayerId": 83,
   "defaultVisibility": true,
   "subLayerIds": null,
   "minScale": 0,
   "maxScale": 0
  },
  {
   "id": 94,
   "name": "البلدية",
   "parentLayerId": 83,
   "defaultVisibility": true,
   "subLayerIds": null,
   "minScale": 0,
   "maxScale": 0
  },
  {
   "id": 95,
   "name": "Scale 13",
   "parentLayerId": -1,
   "defaultVisibility": true,
   "subLayerIds": [
    96,
    101,
    102,
    103
   ],
   "minScale": 100000,
   "maxScale": 50001
  },
  {
   "id": 96,
   "name": "الشوارع",
   "parentLayerId": 95,
   "defaultVisibility": true,
   "subLayerIds": [
    97,
    98,
    99,
    100
   ],
   "minScale": 0,
   "maxScale": 0
  },
  {
   "id": 97,
   "name": "رئيسي 1",
   "parentLayerId": 96,
   "defaultVisibility": true,
   "subLayerIds": null,
   "minScale": 0,
   "maxScale": 0
  },
  {
   "id": 98,
   "name": "رئيسي 1",
   "parentLayerId": 96,
   "defaultVisibility": true,
   "subLayerIds": null,
   "minScale": 0,
   "maxScale": 0
  },
  {
   "id": 99,
   "name": "رئيسي2",
   "parentLayerId": 96,
   "defaultVisibility": true,
   "subLayerIds": null,
   "minScale": 0,
   "maxScale": 0
  },
  {
   "id": 100,
   "name": "رئيسي2",
   "parentLayerId": 96,
   "defaultVisibility": true,
   "subLayerIds": null,
   "minScale": 0,
   "maxScale": 0
  },
  {
   "id": 101,
   "name": "حدود مناطق المشاعر المقدسة",
   "parentLayerId": 95,
   "defaultVisibility": true,
   "subLayerIds": null,
   "minScale": 0,
   "maxScale": 0
  },
  {
   "id": 102,
   "name": "حد الحرم",
   "parentLayerId": 95,
   "defaultVisibility": true,
   "subLayerIds": null,
   "minScale": 0,
   "maxScale": 0
  },
  {
   "id": 103,
   "name": "البلدية",
   "parentLayerId": 95,
   "defaultVisibility": true,
   "subLayerIds": null,
   "minScale": 0,
   "maxScale": 0
  },
  {
   "id": 104,
   "name": "Scale 12",
   "parentLayerId": -1,
   "defaultVisibility": true,
   "subLayerIds": [
    105,
    108,
    109,
    110
   ],
   "minScale": 250000,
   "maxScale": 100001
  },
  {
   "id": 105,
   "name": "الشوارع",
   "parentLayerId": 104,
   "defaultVisibility": true,
   "subLayerIds": [
    106,
    107
   ],
   "minScale": 0,
   "maxScale": 0
  },
  {
   "id": 106,
   "name": "رئيسي 1",
   "parentLayerId": 105,
   "defaultVisibility": true,
   "subLayerIds": null,
   "minScale": 0,
   "maxScale": 0
  },
  {
   "id": 107,
   "name": "رئيسي 1",
   "parentLayerId": 105,
   "defaultVisibility": true,
   "subLayerIds": null,
   "minScale": 0,
   "maxScale": 0
  },
  {
   "id": 108,
   "name": "حدود مناطق المشاعر المقدسة",
   "parentLayerId": 104,
   "defaultVisibility": true,
   "subLayerIds": null,
   "minScale": 0,
   "maxScale": 0
  },
  {
   "id": 109,
   "name": "حد الحرم",
   "parentLayerId": 104,
   "defaultVisibility": true,
   "subLayerIds": null,
   "minScale": 0,
   "maxScale": 0
  },
  {
   "id": 110,
   "name": "البلدية",
   "parentLayerId": 104,
   "defaultVisibility": true,
   "subLayerIds": null,
   "minScale": 0,
   "maxScale": 0
  },
  {
   "id": 111,
   "name": "Scale 11",
   "parentLayerId": -1,
   "defaultVisibility": true,
   "subLayerIds": [
    112,
    115,
    116,
    117
   ],
   "minScale": 500000,
   "maxScale": 250001
  },
  {
   "id": 112,
   "name": "الشوارع",
   "parentLayerId": 111,
   "defaultVisibility": true,
   "subLayerIds": [
    113,
    114
   ],
   "minScale": 0,
   "maxScale": 0
  },
  {
   "id": 113,
   "name": "رئيسي 1",
   "parentLayerId": 112,
   "defaultVisibility": true,
   "subLayerIds": null,
   "minScale": 0,
   "maxScale": 0
  },
  {
   "id": 114,
   "name": "رئيسي 1",
   "parentLayerId": 112,
   "defaultVisibility": true,
   "subLayerIds": null,
   "minScale": 0,
   "maxScale": 0
  },
  {
   "id": 115,
   "name": "حدود مناطق المشاعر المقدسة",
   "parentLayerId": 111,
   "defaultVisibility": true,
   "subLayerIds": null,
   "minScale": 0,
   "maxScale": 0
  },
  {
   "id": 116,
   "name": "حد الحرم",
   "parentLayerId": 111,
   "defaultVisibility": true,
   "subLayerIds": null,
   "minScale": 0,
   "maxScale": 0
  },
  {
   "id": 117,
   "name": "البلدية",
   "parentLayerId": 111,
   "defaultVisibility": true,
   "subLayerIds": null,
   "minScale": 0,
   "maxScale": 0
  },
  {
   "id": 118,
   "name": "From Start To Scale 11",
   "parentLayerId": -1,
   "defaultVisibility": true,
   "subLayerIds": [
    119,
    122,
    123,
    124
   ],
   "minScale": 0,
   "maxScale": 500001
  },
  {
   "id": 119,
   "name": "الشوارع",
   "parentLayerId": 118,
   "defaultVisibility": true,
   "subLayerIds": [
    120,
    121
   ],
   "minScale": 0,
   "maxScale": 0
  },
  {
   "id": 120,
   "name": "رئيسي 1",
   "parentLayerId": 119,
   "defaultVisibility": true,
   "subLayerIds": null,
   "minScale": 0,
   "maxScale": 0
  },
  {
   "id": 121,
   "name": "رئيسي 1",
   "parentLayerId": 119,
   "defaultVisibility": true,
   "subLayerIds": null,
   "minScale": 0,
   "maxScale": 0
  },
  {
   "id": 122,
   "name": "حدود مناطق المشاعر المقدسة",
   "parentLayerId": 118,
   "defaultVisibility": true,
   "subLayerIds": null,
   "minScale": 0,
   "maxScale": 0
  },
  {
   "id": 123,
   "name": "حد الحرم",
   "parentLayerId": 118,
   "defaultVisibility": true,
   "subLayerIds": null,
   "minScale": 0,
   "maxScale": 0
  },
  {
   "id": 124,
   "name": "البلدية",
   "parentLayerId": 118,
   "defaultVisibility": true,
   "subLayerIds": null,
   "minScale": 0,
   "maxScale": 0
  }
 ],
 "tables": [],
 "spatialReference": {
  "wkid": 32637,
  "latestWkid": 32637
 },
 "singleFusedMapCache": true,
 "tileInfo": {
  "rows": 256,
  "cols": 256,
  "dpi": 96,
  "format": "PNG24",
  "compressionQuality": 0,
  "origin": {
   "x": -5121200,
   "y": 9998400
  },
  "spatialReference": {
   "wkid": 32637,
   "latestWkid": 32637
  },
  "lods": [
   {
    "level": 0,
    "resolution": 264.5838625010584,
    "scale": 1000000
   },
   {
    "level": 1,
    "resolution": 198.43789687579377,
    "scale": 750000
   },
   {
    "level": 2,
    "resolution": 132.2919312505292,
    "scale": 500000
   },
   {
    "level": 3,
    "resolution": 66.1459656252646,
    "scale": 250000
   },
   {
    "level": 4,
    "resolution": 26.458386250105836,
    "scale": 100000
   },
   {
    "level": 5,
    "resolution": 13.229193125052918,
    "scale": 50000
   },
   {
    "level": 6,
    "resolution": 6.614596562526459,
    "scale": 25000
   },
   {
    "level": 7,
    "resolution": 2.6458386250105836,
    "scale": 10000
   },
   {
    "level": 8,
    "resolution": 1.3229193125052918,
    "scale": 5000
   },
   {
    "level": 9,
    "resolution": 0.7937515875031751,
    "scale": 3000
   },
   {
    "level": 10,
    "resolution": 0.26458386250105836,
    "scale": 1000
   },
   {
    "level": 11,
    "resolution": 0.13229193125052918,
    "scale": 500
   },
   {
    "level": 12,
    "resolution": 0.06614596562526459,
    "scale": 250
   }
  ]
 },
 "initialExtent": {
  "xmin": 510494.9671929793,
  "ymin": 2369550.185185161,
  "xmax": 659918.703540452,
  "ymax": 2428883.116351023,
  "spatialReference": {
   "wkid": 32637,
   "latestWkid": 32637
  }
 },
 "fullExtent": {
  "xmin": 523624.7551,
  "ymin": 2276406.8309,
  "xmax": 677489.8541,
  "ymax": 2492978.0047,
  "spatialReference": {
   "wkid": 32637,
   "latestWkid": 32637
  }
 },
 "minScale": 1000000,
 "maxScale": 250,
 "units": "esriMeters",
 "supportedImageFormatTypes": "PNG32,PNG24,PNG,JPG,DIB,TIFF,EMF,PS,PDF,GIF,SVG,SVGZ,BMP",
 "documentInfo": {
  "Title": "",
  "Author": "",
  "Comments": "",
  "Subject": "",
  "Category": "",
  "AntialiasingMode": "Best",
  "TextAntialiasingMode": "Force",
  "Keywords": ""
 },
 "capabilities": "Data,Map,Query",
 "supportedQueryFormats": "JSON, AMF, geoJSON",
 "hasVersionedData": true,
 "exportTilesAllowed": false,
 "supportsDatumTransformation": true,
 "maxRecordCount": 1000,
 "maxImageHeight": 4096,
 "maxImageWidth": 4096,
 "supportedExtensions": ""
}
